BEGIN:VCALENDAR
VERSION:2.0
PRODID:-//Pet Industry Association of Australia - ECPv4.6.21//NONSGML v1.0//EN
CALSCALE:GREGORIAN
METHOD:PUBLISH
X-WR-CALNAME:Pet Industry Association of Australia
X-ORIGINAL-URL:https://piaa.net.au
X-WR-CALDESC:Events for Pet Industry Association of Australia
BEGIN:VEVENT
DTSTART;VALUE=DATE:20160904
DTEND;VALUE=DATE:20160905
DTSTAMP:20200302T051927
CREATED:20160525T050139Z
LAST-MODIFIED:20160720T230945Z
UID:2731-1472947200-1473033599@piaa.net.au
SUMMARY:2016 Adelaide Royal Grooming Competitions
DESCRIPTION:Trade Sponsorship available! Please contact events@piaa.net.au for information to be forwarded \nPIAA PRESENTS THE ADELAIDE ROYAL GROOMING COMPETITIONS \nAdelaide | Sunday 4th September | Grooming Judge is Mrs. Annett Whitelum (NSW) | \nThank you to Nexgard - our class prize winners sponsors \n \n  \n  \n  \n  \n  \n  \n  \n  \n
URL:https://piaa.net.au/event/2016-adelaide-grooming-competitions/
LOCATION:Goodwood Road\, Wayville \, SA\, 5034\, Australia
CATEGORIES:Boarding,Grooming,Pet services,Retail,Suppliers
END:VEVENT
END:VCALENDAR