BEGIN:VCALENDAR
VERSION:2.0
PRODID:-//Pet Industry Association of Australia - ECPv4.6.21//NONSGML v1.0//EN
CALSCALE:GREGORIAN
METHOD:PUBLISH
X-WR-CALNAME:Pet Industry Association of Australia
X-ORIGINAL-URL:https://piaa.net.au
X-WR-CALDESC:Events for Pet Industry Association of Australia
BEGIN:VEVENT
DTSTART;VALUE=DATE:20160925
DTEND;VALUE=DATE:20160926
DTSTAMP:20200302T052102
CREATED:20160525T050605Z
LAST-MODIFIED:20160720T231912Z
UID:2734-1474761600-1474847999@piaa.net.au
SUMMARY:2016 Melbourne Royal Grooming Competitions
DESCRIPTION:Trade Sponsorship available! Please contact events@piaa.net.au for information to be forwarded \nPIAA PRESENTS THE MELBOURNE ROYAL GROOMING COMPETITIONS \nMelbourne | Sunday 25th September | Grooming Judge is Mrs. Annett Whitelum (NSW) | \nThank you to Petway Petcare our Best In Show and Best In Show Runner-Up sponsor \n \nThank you to Nexgard - our Sydney and other States class prize winners Sponsors \n \n  \n  \n  \n  \n  \n  \n  \n  \n
URL:https://piaa.net.au/event/2016-melbourne-royal-grooming-competitions/
LOCATION:Epsom Road\, Ascot Vale\, VIC\, 3032\, Australia
CATEGORIES:Boarding,Grooming,Pet services,Retail,Suppliers
END:VEVENT
END:VCALENDAR