BEGIN:VCALENDAR
VERSION:2.0
PRODID:-//Pet Industry Association of Australia - ECPv4.6.21//NONSGML v1.0//EN
CALSCALE:GREGORIAN
METHOD:PUBLISH
X-WR-CALNAME:Pet Industry Association of Australia
X-ORIGINAL-URL:https://piaa.net.au
X-WR-CALDESC:Events for Pet Industry Association of Australia
BEGIN:VEVENT
DTSTART;VALUE=DATE:20160928
DTEND;VALUE=DATE:20160929
DTSTAMP:20200302T052217
CREATED:20160525T050835Z
LAST-MODIFIED:20160727T040412Z
UID:2737-1475020800-1475107199@piaa.net.au
SUMMARY:2016 Perth Royal Grooming Competitions
DESCRIPTION:PIAA PRESENTS THE PERTH ROYAL GROOMING COMPETITIONS \nTrade Sponsorship available! Please contact events@piaa.net.au for information to be forwarded \nPerth | Wednesday 28th September | Grooming Judge is Mrs. Annett Whitelum (NSW) | \nThank you to Nexgard - our Sydney and other States class prize winners Sponsors \n \n  \n  \n  \n  \n  \n  \n  \n  \n
URL:https://piaa.net.au/event/2016-perth-royal-grooming-competitions/
LOCATION:Perth\, Western Australia\, Australia
CATEGORIES:Boarding,Grooming,Pet services,Retail,Suppliers
END:VEVENT
END:VCALENDAR