BEGIN:VCALENDAR
VERSION:2.0
PRODID:-//Pet Industry Association of Australia - ECPv4.6.21//NONSGML v1.0//EN
CALSCALE:GREGORIAN
METHOD:PUBLISH
X-WR-CALNAME:Pet Industry Association of Australia
X-ORIGINAL-URL:https://piaa.net.au
X-WR-CALDESC:Events for Pet Industry Association of Australia
BEGIN:VEVENT
DTSTART;VALUE=DATE:20161020
DTEND;VALUE=DATE:20161022
DTSTAMP:20200229T052044
CREATED:20150310T163233Z
LAST-MODIFIED:20161127T223956Z
UID:504-1476921600-1477094399@piaa.net.au
SUMMARY:The PIAA 2016 Pet Expo & Business Conference - building better business....
DESCRIPTION:  \nTHE PIAA PET EXPO & BUSINESS CONFERENCE IS A NATIONAL TRADE SHOW & CONFERENCE OPEN TO PET STORES\, GROOMERS\, BOARDING KENNELS & CATTERIES\, PET SITTERS\, TRAINERS\, BREEDERS\, MANUFACTURERS & SUPPLIERS* AND ALL ASSOCIATED INDUSTRIES WITHIN THE AUSTRALIAN PET TRADE *hawking for business\, if a non exhibitor\, at this event will not be tolerated.\n \nTHE 2016 PIAA PET EXPO & BUSINESS CONFERENCE BROCHURE\nFor sponsorship & exhibitor  information contact events@piaa.net.au \nTo register your attendance at PetExpo and any associated event  click here\nAttending the PetExpo Gala Dinner? PetExpo 2016 Gala Dinner information and booking form \nTRADE SHOW ENTRY IS FREE TO ALL & YOU DON’T NEED TO BE A PIAA MEMBER TO ATTEND \nPIAA member cost to attend the Business Conference is $280 for two days or $150 per day (gst inclusive)\nNon member cost is $364 for two days or $195 per day (gst inclusive) \nGrowing the Aquarium Industry event for a PIAA member is $35 and non member $65 (gst inclusive) \nPIAA thanks Nexgard for their Platinum Sponsorship of our major\, annual event \nWe also thank Tower Systems for their Bronze Sponsorship. \n \nNeed Accommodation? https://ep.ozaccom.com.au/public/PET16/accommodation.aspx \n  \n\n
URL:https://piaa.net.au/event/pet-expo-2016/
LOCATION:Melbourne\, VIC\, 3000\, Australia
CATEGORIES:Boarding,Grooming,Pet services,Retail,Suppliers
ORGANIZER;CN="Pet%20Industry%20Association":MAILTO:events@piaa.net.au
END:VEVENT
END:VCALENDAR