BEGIN:VCALENDAR
VERSION:2.0
PRODID:-//Pet Industry Association of Australia - ECPv4.6.21//NONSGML v1.0//EN
CALSCALE:GREGORIAN
METHOD:PUBLISH
X-WR-CALNAME:Pet Industry Association of Australia
X-ORIGINAL-URL:https://piaa.net.au
X-WR-CALDESC:Events for Pet Industry Association of Australia
BEGIN:VEVENT
DTSTART;VALUE=DATE:20170903
DTEND;VALUE=DATE:20170904
DTSTAMP:20200229T053126
CREATED:20170206T031920Z
LAST-MODIFIED:20170818T031413Z
UID:4086-1504396800-1504483199@piaa.net.au
SUMMARY:PIAA presents the 2017 Adelaide Royal Show Grooming Competition - ENTRIES NOW CLOSED
DESCRIPTION:PIAA grooming competitions showcase the talents of professional groomers at many events held around Australian during the year.\nOur competitions are held in conjunction with most State’s Agricultural Organisations at their “Royal” events such as the prestigious Sydney Royal and we participate in consumer pet industry events in the ACT\, QLD and WA.\nThis provides a unique opportunity for sponsorship as it’s not only the trade that can be targeted with your branding but also the general public as they watch the talents of groomers entered as they compete for the hotly contested Best In Show.\nPIAA 2017 Sponsorship Prospectus for events\nPIAA 2017 Grooming Events\nPIAA 2017 Grooming Competitions Information Entry & Validation Form\n \n\nYour judge for this event will be Mrs Tamara James (TAS) \nPlease see above for the info and entry form or email events@piaa.net.au \n  \n  \n  \nPIAA thanks Platinum Sponsor\, Heiniger and Gold Sponsor Petway Petcare for their support of PIAA Royal & Consumer Show Grooming Competitions in 2017. \n  \n
URL:https://piaa.net.au/event/piaa-presents-2017-adelaide-royal-show-grooming-competition/
LOCATION:Goodwood Road\, Wayville \, SA\, 5034\, Australia
END:VEVENT
END:VCALENDAR