BEGIN:VCALENDAR
VERSION:2.0
PRODID:-//Pet Industry Association of Australia - ECPv4.6.21//NONSGML v1.0//EN
CALSCALE:GREGORIAN
METHOD:PUBLISH
X-WR-CALNAME:Pet Industry Association of Australia
X-ORIGINAL-URL:https://piaa.net.au
X-WR-CALDESC:Events for Pet Industry Association of Australia
BEGIN:VEVENT
DTSTART;VALUE=DATE:20180402
DTEND;VALUE=DATE:20180404
DTSTAMP:20200302T051330
CREATED:20171206T013224Z
LAST-MODIFIED:20180323T011145Z
UID:5140-1522627200-1522799999@piaa.net.au
SUMMARY:Sydney Royal Grooming Competition
DESCRIPTION:  \nJUDGE \nNaomi Conroy \nBio \nNaomi has enjoyed a rewarding pet grooming career\, starting out at the age of seventeen Naomi had her first grooming job at the local vet\, she studied Vet nursing and was lucky to work with some amazing vets during her 8 year nursing career. Having been a second generation pet groomer\, she was busy on the weekends helping her mother in her mobile business. Being drawn to grooming she started her mobile van business in 2000\, she worked hard and expanded the business and had a fleet of vans\, during this time she studied for her IPG Masters Certification and NASH Academy diploma\, all the while traveling around Australia and overseas to compete in grooming competitions. Career highlights include wins in competitions with Bichons\, Springer Spaniels\, English Cocker Spaniels and Poodles and a recent Best In Show at the PIAA ACT grooming competition with her Bichon Hugo. Naomi has represented Australia twice internationally with the Australian Groom Team. Naomi has a passion for training other groomers and currently works with Cert III & IV students in Pet Grooming at her Seaforth salon in Sydney\, she has her Cert IV in Training Education and Assessment and loves seeing other groomers excel in the industry. Naomi is also a International Certified Master Feline Groomer and an assessor for NCGIA and DGI. When shes not grooming or competing\, Naomi is at confirmation shows with her Bichon Hugo and toy poodle Pandora\, she also has two children Lacie (5months) and Tayla (5 years). \n \n2018 Grooming Competitions Rules & Regulations \nENTRIES ARE NOW CLOSED. \n
URL:https://piaa.net.au/event/sydney-royal-grooming-competition/
LOCATION:Homebush\, Australia
ORGANIZER;CN="PIAA":MAILTO:events@piaa.net.au
END:VEVENT
END:VCALENDAR